BEGIN:VCALENDAR
VERSION:2.0
PRODID:-//ddaysoftware.com//NONSGML DDay.iCal 1.0//EN
BEGIN:VEVENT
DTSTAMP:20260424T204401Z
DTSTART:20211003T173000
LOCATION:C 4.BLMF PJK
SEQUENCE:0
SUMMARY:Kekuleho Potaš - Tryskáči
UID:SZMFMATCHID=19167
END:VEVENT
END:VCALENDAR
